BEGIN:VCALENDAR
VERSION:2.0
PRODID:-//Kamal Jyoti Vidhya Peeth - ECPv5.14.1//NONSGML v1.0//EN
CALSCALE:GREGORIAN
METHOD:PUBLISH
X-WR-CALNAME:Kamal Jyoti Vidhya Peeth
X-ORIGINAL-URL:https://www.kamaljyotividhyapeeth.com
X-WR-CALDESC:Events for Kamal Jyoti Vidhya Peeth
REFRESH-INTERVAL;VALUE=DURATION:PT1H
X-Robots-Tag:noindex
X-PUBLISHED-TTL:PT1H
BEGIN:VTIMEZONE
TZID:Asia/Kolkata
BEGIN:STANDARD
TZOFFSETFROM:+0530
TZOFFSETTO:+0530
TZNAME:IST
DTSTART:20260101T000000
END:STANDARD
END:VTIMEZONE
BEGIN:VEVENT
DTSTART;VALUE=DATE:20260608
DTEND;VALUE=DATE:20260609
DTSTAMP:20260420T032139
CREATED:20260417T180114Z
LAST-MODIFIED:20260417T180114Z
UID:1321-1780876800-1780963199@www.kamaljyotividhyapeeth.com
SUMMARY:Junior Exam Starts
DESCRIPTION:
URL:https://www.kamaljyotividhyapeeth.com/calendar/junior-exam-starts/
LOCATION:KAMAL JYOTI VIDHYA PEETH\, KALIMPONG\, India
CATEGORIES:Exams
END:VEVENT
END:VCALENDAR