BEGIN:VCALENDAR
VERSION:2.0
PRODID:-//Kamal Jyoti Vidhya Peeth - ECPv5.14.1//NONSGML v1.0//EN
CALSCALE:GREGORIAN
METHOD:PUBLISH
X-WR-CALNAME:Kamal Jyoti Vidhya Peeth
X-ORIGINAL-URL:https://www.kamaljyotividhyapeeth.com
X-WR-CALDESC:Events for Kamal Jyoti Vidhya Peeth
REFRESH-INTERVAL;VALUE=DURATION:PT1H
X-Robots-Tag:noindex
X-PUBLISHED-TTL:PT1H
BEGIN:VTIMEZONE
TZID:Asia/Kolkata
BEGIN:STANDARD
TZOFFSETFROM:+0530
TZOFFSETTO:+0530
TZNAME:IST
DTSTART:20260101T000000
END:STANDARD
END:VTIMEZONE
BEGIN:VEVENT
DTSTART;VALUE=DATE:20260727
DTEND;VALUE=DATE:20260728
DTSTAMP:20260421T021635
CREATED:20260417T181901Z
LAST-MODIFIED:20260417T181901Z
UID:1338-1785110400-1785196799@www.kamaljyotividhyapeeth.com
SUMMARY:Sahid Diwas
DESCRIPTION:
URL:https://www.kamaljyotividhyapeeth.com/calendar/sahid-diwas/
LOCATION:KAMAL JYOTI VIDHYA PEETH\, KALIMPONG\, India
CATEGORIES:holidays
END:VEVENT
BEGIN:VEVENT
DTSTART;VALUE=DATE:20260727
DTEND;VALUE=DATE:20260728
DTSTAMP:20260421T021635
CREATED:20260417T181947Z
LAST-MODIFIED:20260417T181947Z
UID:1340-1785110400-1785196799@www.kamaljyotividhyapeeth.com
SUMMARY:Annual Function
DESCRIPTION:
URL:https://www.kamaljyotividhyapeeth.com/calendar/annual-function-2/
LOCATION:KAMAL JYOTI VIDHYA PEETH\, KALIMPONG\, India
CATEGORIES:School Programme
END:VEVENT
END:VCALENDAR