BEGIN:VCALENDAR
VERSION:2.0
PRODID:-//Kamal Jyoti Vidhya Peeth - ECPv5.14.1//NONSGML v1.0//EN
CALSCALE:GREGORIAN
METHOD:PUBLISH
X-WR-CALNAME:Kamal Jyoti Vidhya Peeth
X-ORIGINAL-URL:https://www.kamaljyotividhyapeeth.com
X-WR-CALDESC:Events for Kamal Jyoti Vidhya Peeth
REFRESH-INTERVAL;VALUE=DURATION:PT1H
X-Robots-Tag:noindex
X-PUBLISHED-TTL:PT1H
BEGIN:VTIMEZONE
TZID:Asia/Kolkata
BEGIN:STANDARD
TZOFFSETFROM:+0530
TZOFFSETTO:+0530
TZNAME:IST
DTSTART:20260101T000000
END:STANDARD
END:VTIMEZONE
BEGIN:VEVENT
DTSTART;VALUE=DATE:20261113
DTEND;VALUE=DATE:20261114
DTSTAMP:20260420T233716
CREATED:20260417T183234Z
LAST-MODIFIED:20260417T183234Z
UID:1366-1794528000-1794614399@www.kamaljyotividhyapeeth.com
SUMMARY:School Reopen
DESCRIPTION:School Reopen
URL:https://www.kamaljyotividhyapeeth.com/calendar/school-reopen-6/
LOCATION:KAMAL JYOTI VIDHYA PEETH\, KALIMPONG\, India
CATEGORIES:BACK TO SCHOOL
END:VEVENT
END:VCALENDAR