BEGIN:VCALENDAR
VERSION:2.0
PRODID:-//Kamal Jyoti Vidhya Peeth - ECPv5.14.1//NONSGML v1.0//EN
CALSCALE:GREGORIAN
METHOD:PUBLISH
X-WR-CALNAME:Kamal Jyoti Vidhya Peeth
X-ORIGINAL-URL:https://www.kamaljyotividhyapeeth.com
X-WR-CALDESC:Events for Kamal Jyoti Vidhya Peeth
REFRESH-INTERVAL;VALUE=DURATION:PT1H
X-Robots-Tag:noindex
X-PUBLISHED-TTL:PT1H
BEGIN:VTIMEZONE
TZID:Asia/Kolkata
BEGIN:STANDARD
TZOFFSETFROM:+0530
TZOFFSETTO:+0530
TZNAME:IST
DTSTART:20240101T000000
END:STANDARD
END:VTIMEZONE
BEGIN:VEVENT
DTSTART;TZID=Asia/Kolkata:20240417T080000
DTEND;TZID=Asia/Kolkata:20240417T170000
DTSTAMP:20260420T062423
CREATED:20240221T155021Z
LAST-MODIFIED:20240221T155021Z
UID:1051-1713340800-1713373200@www.kamaljyotividhyapeeth.com
SUMMARY:Ram Navani (prog. and class)
DESCRIPTION:Ram Navani (prog. and class)
URL:https://www.kamaljyotividhyapeeth.com/calendar/ram-navani-prog-and-class/
LOCATION:KAMAL JYOTI VIDHYA PEETH\, KALIMPONG\, India
CATEGORIES:Festivals,School Programme
END:VEVENT
BEGIN:VEVENT
DTSTART;VALUE=DATE:20240413
DTEND;VALUE=DATE:20240414
DTSTAMP:20260420T062423
CREATED:20240221T154650Z
LAST-MODIFIED:20240221T154650Z
UID:1048-1712966400-1713052799@www.kamaljyotividhyapeeth.com
SUMMARY:Nepali New Year (Holiday)
DESCRIPTION:Nepali New Year (Holiday)
URL:https://www.kamaljyotividhyapeeth.com/calendar/nepali-new-year-holiday/
LOCATION:KAMAL JYOTI VIDHYA PEETH\, KALIMPONG\, India
CATEGORIES:Festivals
END:VEVENT
BEGIN:VEVENT
DTSTART;VALUE=DATE:20240325
DTEND;VALUE=DATE:20240326
DTSTAMP:20260420T062423
CREATED:20240221T135449Z
LAST-MODIFIED:20240221T135534Z
UID:1037-1711324800-1711411199@www.kamaljyotividhyapeeth.com
SUMMARY:Holi (Holiday)
DESCRIPTION:Holi (Holiday)
URL:https://www.kamaljyotividhyapeeth.com/calendar/holi-holiday/
LOCATION:KAMAL JYOTI VIDHYA PEETH\, KALIMPONG\, India
CATEGORIES:Festivals,holidays
END:VEVENT
END:VCALENDAR