BEGIN:VCALENDAR
VERSION:2.0
PRODID:-//Kamal Jyoti Vidhya Peeth - ECPv5.14.1//NONSGML v1.0//EN
CALSCALE:GREGORIAN
METHOD:PUBLISH
X-WR-CALNAME:Kamal Jyoti Vidhya Peeth
X-ORIGINAL-URL:https://www.kamaljyotividhyapeeth.com
X-WR-CALDESC:Events for Kamal Jyoti Vidhya Peeth
REFRESH-INTERVAL;VALUE=DURATION:PT1H
X-Robots-Tag:noindex
X-PUBLISHED-TTL:PT1H
BEGIN:VTIMEZONE
TZID:Asia/Kolkata
BEGIN:STANDARD
TZOFFSETFROM:+0530
TZOFFSETTO:+0530
TZNAME:IST
DTSTART:20240101T000000
END:STANDARD
END:VTIMEZONE
BEGIN:VEVENT
DTSTART;VALUE=DATE:20260427
DTEND;VALUE=DATE:20260428
DTSTAMP:20260420T031514
CREATED:20260417T175150Z
LAST-MODIFIED:20260417T175150Z
UID:1307-1777248000-1777334399@www.kamaljyotividhyapeeth.com
SUMMARY:XI Classes start
DESCRIPTION:
URL:https://www.kamaljyotividhyapeeth.com/calendar/xi-classes-start/
LOCATION:KAMAL JYOTI VIDHYA PEETH\, KALIMPONG\, India
CATEGORIES:BACK TO SCHOOL
END:VEVENT
BEGIN:VEVENT
DTSTART;VALUE=DATE:20241216
DTEND;VALUE=DATE:20241217
DTSTAMP:20260420T031514
CREATED:20240221T173039Z
LAST-MODIFIED:20240221T173039Z
UID:1123-1734307200-1734393599@www.kamaljyotividhyapeeth.com
SUMMARY:Report for Senior
DESCRIPTION:Report for Senior
URL:https://www.kamaljyotividhyapeeth.com/calendar/report-for-senior/
LOCATION:KAMAL JYOTI VIDHYA PEETH\, KALIMPONG\, India
CATEGORIES:Results
END:VEVENT
BEGIN:VEVENT
DTSTART;TZID=Asia/Kolkata:20241202T080000
DTEND;TZID=Asia/Kolkata:20241212T170000
DTSTAMP:20260420T031514
CREATED:20240221T172702Z
LAST-MODIFIED:20240221T173314Z
UID:1118-1733126400-1734022800@www.kamaljyotividhyapeeth.com
SUMMARY:Exam for senior
DESCRIPTION:Exam for senior
URL:https://www.kamaljyotividhyapeeth.com/calendar/exam-for-senior/
LOCATION:KAMAL JYOTI VIDHYA PEETH\, KALIMPONG\, India
CATEGORIES:Exams
END:VEVENT
BEGIN:VEVENT
DTSTART;TZID=Asia/Kolkata:20241128T080000
DTEND;TZID=Asia/Kolkata:20241207T170000
DTSTAMP:20260420T031514
CREATED:20240221T172553Z
LAST-MODIFIED:20240221T172553Z
UID:1116-1732780800-1733590800@www.kamaljyotividhyapeeth.com
SUMMARY:Exam for junior
DESCRIPTION:
URL:https://www.kamaljyotividhyapeeth.com/calendar/exam-for-junior/
LOCATION:KAMAL JYOTI VIDHYA PEETH\, KALIMPONG\, India
CATEGORIES:Exams
END:VEVENT
BEGIN:VEVENT
DTSTART;VALUE=DATE:20241126
DTEND;VALUE=DATE:20241127
DTSTAMP:20260420T031514
CREATED:20240221T172756Z
LAST-MODIFIED:20240221T172756Z
UID:1120-1732579200-1732665599@www.kamaljyotividhyapeeth.com
SUMMARY:Report for Junior Prize Distribution
DESCRIPTION:Report for Junior Prize Distribution
URL:https://www.kamaljyotividhyapeeth.com/calendar/report-for-junior-prize-distribution/
LOCATION:KAMAL JYOTI VIDHYA PEETH\, KALIMPONG\, India
CATEGORIES:School Programme
END:VEVENT
BEGIN:VEVENT
DTSTART;TZID=Asia/Kolkata:20241123T080000
DTEND;TZID=Asia/Kolkata:20241123T170000
DTSTAMP:20260420T031514
CREATED:20240221T172439Z
LAST-MODIFIED:20240221T172439Z
UID:1114-1732348800-1732381200@www.kamaljyotividhyapeeth.com
SUMMARY:Baba’s Birthday
DESCRIPTION:Baba’s Birthday
URL:https://www.kamaljyotividhyapeeth.com/calendar/babas-birthday/
LOCATION:KAMAL JYOTI VIDHYA PEETH\, KALIMPONG\, India
CATEGORIES:School Programme
END:VEVENT
BEGIN:VEVENT
DTSTART;VALUE=DATE:20241115
DTEND;VALUE=DATE:20241116
DTSTAMP:20260420T031514
CREATED:20240221T172338Z
LAST-MODIFIED:20240221T172338Z
UID:1112-1731628800-1731715199@www.kamaljyotividhyapeeth.com
SUMMARY:Holiday
DESCRIPTION:Holiday
URL:https://www.kamaljyotividhyapeeth.com/calendar/holiday-3/
LOCATION:KAMAL JYOTI VIDHYA PEETH\, KALIMPONG\, India
CATEGORIES:holidays
END:VEVENT
BEGIN:VEVENT
DTSTART;VALUE=DATE:20241114
DTEND;VALUE=DATE:20241115
DTSTAMP:20260420T031514
CREATED:20240221T165802Z
LAST-MODIFIED:20240221T172304Z
UID:1110-1731542400-1731628799@www.kamaljyotividhyapeeth.com
SUMMARY:Children’s Day and sports
DESCRIPTION:Children’s Day and sports
URL:https://www.kamaljyotividhyapeeth.com/calendar/childrens-day-and-sports/
LOCATION:KAMAL JYOTI VIDHYA PEETH\, KALIMPONG\, India
CATEGORIES:School Programme
END:VEVENT
BEGIN:VEVENT
DTSTART;VALUE=DATE:20241107
DTEND;VALUE=DATE:20241108
DTSTAMP:20260420T031514
CREATED:20240221T163032Z
LAST-MODIFIED:20240221T163032Z
UID:1108-1730937600-1731023999@www.kamaljyotividhyapeeth.com
SUMMARY:Chatt Puja (Holiday)
DESCRIPTION:Chatt Puja (Holiday)
URL:https://www.kamaljyotividhyapeeth.com/calendar/chatt-puja-holiday/
LOCATION:KAMAL JYOTI VIDHYA PEETH\, KALIMPONG\, India
CATEGORIES:holidays
END:VEVENT
BEGIN:VEVENT
DTSTART;VALUE=DATE:20241104
DTEND;VALUE=DATE:20241105
DTSTAMP:20260420T031514
CREATED:20240221T162950Z
LAST-MODIFIED:20240221T162950Z
UID:1106-1730678400-1730764799@www.kamaljyotividhyapeeth.com
SUMMARY:School Reopen
DESCRIPTION:School Reopen
URL:https://www.kamaljyotividhyapeeth.com/calendar/school-reopen-4/
LOCATION:KAMAL JYOTI VIDHYA PEETH\, KALIMPONG\, India
CATEGORIES:BACK TO SCHOOL
END:VEVENT
BEGIN:VEVENT
DTSTART;TZID=Asia/Kolkata:20241030T080000
DTEND;TZID=Asia/Kolkata:20241103T170000
DTSTAMP:20260420T031514
CREATED:20240221T162918Z
LAST-MODIFIED:20240221T162918Z
UID:1104-1730275200-1730653200@www.kamaljyotividhyapeeth.com
SUMMARY:Diwali Holiday
DESCRIPTION:Diwali Holiday
URL:https://www.kamaljyotividhyapeeth.com/calendar/diwali-holiday/
LOCATION:KAMAL JYOTI VIDHYA PEETH\, KALIMPONG\, India
CATEGORIES:holidays
END:VEVENT
BEGIN:VEVENT
DTSTART;VALUE=DATE:20241021
DTEND;VALUE=DATE:20241022
DTSTAMP:20260420T031514
CREATED:20240221T162842Z
LAST-MODIFIED:20240221T162842Z
UID:1102-1729468800-1729555199@www.kamaljyotividhyapeeth.com
SUMMARY:School Reopen
DESCRIPTION:School Reopen
URL:https://www.kamaljyotividhyapeeth.com/calendar/school-reopen-3/
LOCATION:KAMAL JYOTI VIDHYA PEETH\, KALIMPONG\, India
CATEGORIES:BACK TO SCHOOL
END:VEVENT
BEGIN:VEVENT
DTSTART;VALUE=DATE:20241008
DTEND;VALUE=DATE:20241009
DTSTAMP:20260420T031514
CREATED:20240221T162508Z
LAST-MODIFIED:20240221T162508Z
UID:1100-1728345600-1728431999@www.kamaljyotividhyapeeth.com
SUMMARY:Annual Function
DESCRIPTION:Annual Function
URL:https://www.kamaljyotividhyapeeth.com/calendar/annual-function/
LOCATION:KAMAL JYOTI VIDHYA PEETH\, KALIMPONG\, India
CATEGORIES:School Programme
END:VEVENT
BEGIN:VEVENT
DTSTART;VALUE=DATE:20241002
DTEND;VALUE=DATE:20241003
DTSTAMP:20260420T031514
CREATED:20240221T162136Z
LAST-MODIFIED:20240221T162136Z
UID:1098-1727827200-1727913599@www.kamaljyotividhyapeeth.com
SUMMARY:Gandhi Jayanti (Holiday)
DESCRIPTION:Gandhi Jayanti (Holiday)
URL:https://www.kamaljyotividhyapeeth.com/calendar/gandhi-jayanti-holiday/
LOCATION:KAMAL JYOTI VIDHYA PEETH\, KALIMPONG\, India
CATEGORIES:holidays
END:VEVENT
BEGIN:VEVENT
DTSTART;VALUE=DATE:20240909
DTEND;VALUE=DATE:20240910
DTSTAMP:20260420T031514
CREATED:20240221T162104Z
LAST-MODIFIED:20240221T162104Z
UID:1096-1725840000-1725926399@www.kamaljyotividhyapeeth.com
SUMMARY:Ganesh Chturthi Prog. (Mid Term Report After 2)
DESCRIPTION:Ganesh Chturthi Prog. (Mid Term Report After 2)
URL:https://www.kamaljyotividhyapeeth.com/calendar/ganesh-chturthi-prog-mid-term-report-after-2/
LOCATION:KAMAL JYOTI VIDHYA PEETH\, KALIMPONG\, India
CATEGORIES:Results
END:VEVENT
BEGIN:VEVENT
DTSTART;VALUE=DATE:20240906
DTEND;VALUE=DATE:20240907
DTSTAMP:20260420T031514
CREATED:20240221T162015Z
LAST-MODIFIED:20240221T162015Z
UID:1094-1725580800-1725667199@www.kamaljyotividhyapeeth.com
SUMMARY:Holiday
DESCRIPTION:Holiday
URL:https://www.kamaljyotividhyapeeth.com/calendar/holiday-2/
LOCATION:KAMAL JYOTI VIDHYA PEETH\, KALIMPONG\, India
CATEGORIES:holidays
END:VEVENT
BEGIN:VEVENT
DTSTART;VALUE=DATE:20240905
DTEND;VALUE=DATE:20240906
DTSTAMP:20260420T031514
CREATED:20240221T161936Z
LAST-MODIFIED:20240221T161952Z
UID:1091-1725494400-1725580799@www.kamaljyotividhyapeeth.com
SUMMARY:Teacher’s Day celebration  Holiday
DESCRIPTION:Teacher’s Day celebration
URL:https://www.kamaljyotividhyapeeth.com/calendar/teachers-day-celebration-holiday/
LOCATION:KAMAL JYOTI VIDHYA PEETH\, KALIMPONG\, India
CATEGORIES:School Programme
END:VEVENT
BEGIN:VEVENT
DTSTART;VALUE=DATE:20240826
DTEND;VALUE=DATE:20240827
DTSTAMP:20260420T031514
CREATED:20240221T161848Z
LAST-MODIFIED:20240221T161848Z
UID:1089-1724630400-1724716799@www.kamaljyotividhyapeeth.com
SUMMARY:Janmastami (prog. and test)
DESCRIPTION:Janmastami (prog. and test)
URL:https://www.kamaljyotividhyapeeth.com/calendar/janmastami-prog-and-test/
LOCATION:KAMAL JYOTI VIDHYA PEETH\, KALIMPONG\, India
CATEGORIES:Exams,School Programme
END:VEVENT
BEGIN:VEVENT
DTSTART;TZID=Asia/Kolkata:20240822T080000
DTEND;TZID=Asia/Kolkata:20240830T170000
DTSTAMP:20260420T031514
CREATED:20240221T161733Z
LAST-MODIFIED:20240221T161733Z
UID:1087-1724313600-1725037200@www.kamaljyotividhyapeeth.com
SUMMARY:Mid Term Test
DESCRIPTION:Mid Term Test
URL:https://www.kamaljyotividhyapeeth.com/calendar/mid-term-test/
LOCATION:KAMAL JYOTI VIDHYA PEETH\, KALIMPONG\, India
CATEGORIES:Exams
END:VEVENT
BEGIN:VEVENT
DTSTART;VALUE=DATE:20240820
DTEND;VALUE=DATE:20240821
DTSTAMP:20260420T031514
CREATED:20240221T161648Z
LAST-MODIFIED:20240221T161648Z
UID:1085-1724112000-1724198399@www.kamaljyotividhyapeeth.com
SUMMARY:Bhasa Diwas (prog. and holiday)
DESCRIPTION:Bhasa Diwas (prog. and holiday)
URL:https://www.kamaljyotividhyapeeth.com/calendar/bhasa-diwas-prog-and-holiday/
LOCATION:KAMAL JYOTI VIDHYA PEETH\, KALIMPONG\, India
CATEGORIES:holidays,School Programme
END:VEVENT
BEGIN:VEVENT
DTSTART;VALUE=DATE:20240819
DTEND;VALUE=DATE:20240820
DTSTAMP:20260420T031514
CREATED:20240221T161558Z
LAST-MODIFIED:20240221T161558Z
UID:1083-1724025600-1724111999@www.kamaljyotividhyapeeth.com
SUMMARY:School Reopen
DESCRIPTION:School Reopen
URL:https://www.kamaljyotividhyapeeth.com/calendar/school-reopen-2/
LOCATION:KAMAL JYOTI VIDHYA PEETH\, KALIMPONG\, India
CATEGORIES:BACK TO SCHOOL
END:VEVENT
BEGIN:VEVENT
DTSTART;VALUE=DATE:20240814
DTEND;VALUE=DATE:20240815
DTSTAMP:20260420T031514
CREATED:20240221T161451Z
LAST-MODIFIED:20240221T161525Z
UID:1081-1723593600-1723679999@www.kamaljyotividhyapeeth.com
SUMMARY:Half Day
DESCRIPTION:Half Day
URL:https://www.kamaljyotividhyapeeth.com/calendar/half-day/
LOCATION:KAMAL JYOTI VIDHYA PEETH\, KALIMPONG\, India
CATEGORIES:holidays
END:VEVENT
BEGIN:VEVENT
DTSTART;VALUE=DATE:20240717
DTEND;VALUE=DATE:20240718
DTSTAMP:20260420T031514
CREATED:20240221T160622Z
LAST-MODIFIED:20240221T160622Z
UID:1077-1721174400-1721260799@www.kamaljyotividhyapeeth.com
SUMMARY:Muharram (Holiday)
DESCRIPTION:Muharram (Holiday)
URL:https://www.kamaljyotividhyapeeth.com/calendar/muharram-holiday/
LOCATION:KAMAL JYOTI VIDHYA PEETH\, KALIMPONG\, India
CATEGORIES:holidays
END:VEVENT
BEGIN:VEVENT
DTSTART;VALUE=DATE:20240713
DTEND;VALUE=DATE:20240714
DTSTAMP:20260420T031514
CREATED:20240221T160536Z
LAST-MODIFIED:20240221T160536Z
UID:1075-1720828800-1720915199@www.kamaljyotividhyapeeth.com
SUMMARY:Bhanu Jayanti (Holiday)
DESCRIPTION:Bhanu Jayanti (Holiday)
URL:https://www.kamaljyotividhyapeeth.com/calendar/bhanu-jayanti-holiday/
LOCATION:KAMAL JYOTI VIDHYA PEETH\, KALIMPONG\, India
CATEGORIES:holidays
END:VEVENT
BEGIN:VEVENT
DTSTART;VALUE=DATE:20240712
DTEND;VALUE=DATE:20240713
DTSTAMP:20260420T031514
CREATED:20240221T160453Z
LAST-MODIFIED:20240221T160453Z
UID:1073-1720742400-1720828799@www.kamaljyotividhyapeeth.com
SUMMARY:Bhanu Jayanti Celebration (prog. and class) Fresher’s Welcome
DESCRIPTION:Bhanu Jayanti Celebration (prog. and class) Fresher’s Welcome
URL:https://www.kamaljyotividhyapeeth.com/calendar/bhanu-jayanti-celebration-prog-and-class-freshers-welcome/
LOCATION:KAMAL JYOTI VIDHYA PEETH\, KALIMPONG\, India
CATEGORIES:School Programme
END:VEVENT
BEGIN:VEVENT
DTSTART;VALUE=DATE:20240705
DTEND;VALUE=DATE:20240706
DTSTAMP:20260420T031514
CREATED:20240221T160354Z
LAST-MODIFIED:20240221T160354Z
UID:1071-1720137600-1720223999@www.kamaljyotividhyapeeth.com
SUMMARY:Report Card (after 2)
DESCRIPTION:Report Card (after 2)
URL:https://www.kamaljyotividhyapeeth.com/calendar/report-card-after-2/
LOCATION:KAMAL JYOTI VIDHYA PEETH\, KALIMPONG\, India
CATEGORIES:Results
END:VEVENT
BEGIN:VEVENT
DTSTART;VALUE=DATE:20240701
DTEND;VALUE=DATE:20240702
DTSTAMP:20260420T031514
CREATED:20240221T160258Z
LAST-MODIFIED:20240221T160258Z
UID:1069-1719792000-1719878399@www.kamaljyotividhyapeeth.com
SUMMARY:School Reopen
DESCRIPTION:School Reopen
URL:https://www.kamaljyotividhyapeeth.com/calendar/school-reopen/
LOCATION:KAMAL JYOTI VIDHYA PEETH\, KALIMPONG\, India
CATEGORIES:BACK TO SCHOOL,Classes begins
END:VEVENT
BEGIN:VEVENT
DTSTART;TZID=Asia/Kolkata:20240615T080000
DTEND;TZID=Asia/Kolkata:20240630T170000
DTSTAMP:20260420T031514
CREATED:20240221T160221Z
LAST-MODIFIED:20240221T160221Z
UID:1067-1718438400-1719766800@www.kamaljyotividhyapeeth.com
SUMMARY:Holiday
DESCRIPTION:Holiday
URL:https://www.kamaljyotividhyapeeth.com/calendar/holiday/
LOCATION:KAMAL JYOTI VIDHYA PEETH\, KALIMPONG\, India
CATEGORIES:holidays
END:VEVENT
BEGIN:VEVENT
DTSTART;TZID=Asia/Kolkata:20240606T080000
DTEND;TZID=Asia/Kolkata:20240614T170000
DTSTAMP:20260420T031514
CREATED:20240221T160056Z
LAST-MODIFIED:20240221T160056Z
UID:1065-1717660800-1718384400@www.kamaljyotividhyapeeth.com
SUMMARY:1st term
DESCRIPTION:1st term
URL:https://www.kamaljyotividhyapeeth.com/calendar/1st-term/
LOCATION:KAMAL JYOTI VIDHYA PEETH\, KALIMPONG\, India
CATEGORIES:Exams
END:VEVENT
BEGIN:VEVENT
DTSTART;VALUE=DATE:20240523
DTEND;VALUE=DATE:20240524
DTSTAMP:20260420T031514
CREATED:20240221T155941Z
LAST-MODIFIED:20240221T160008Z
UID:1063-1716422400-1716508799@www.kamaljyotividhyapeeth.com
SUMMARY:Buddha Jayanti (Holiday)
DESCRIPTION:Buddha Jayanti (Holiday)
URL:https://www.kamaljyotividhyapeeth.com/calendar/buddha-jayanti-holiday/
LOCATION:KAMAL JYOTI VIDHYA PEETH\, KALIMPONG\, India
CATEGORIES:holidays
END:VEVENT
END:VCALENDAR