BEGIN:VCALENDAR
VERSION:2.0
PRODID:-//Kamal Jyoti Vidhya Peeth - ECPv5.14.1//NONSGML v1.0//EN
CALSCALE:GREGORIAN
METHOD:PUBLISH
X-WR-CALNAME:Kamal Jyoti Vidhya Peeth
X-ORIGINAL-URL:https://www.kamaljyotividhyapeeth.com
X-WR-CALDESC:Events for Kamal Jyoti Vidhya Peeth
REFRESH-INTERVAL;VALUE=DURATION:PT1H
X-Robots-Tag:noindex
X-PUBLISHED-TTL:PT1H
BEGIN:VTIMEZONE
TZID:Asia/Kolkata
BEGIN:STANDARD
TZOFFSETFROM:+0530
TZOFFSETTO:+0530
TZNAME:IST
DTSTART:20260101T000000
END:STANDARD
END:VTIMEZONE
BEGIN:VEVENT
DTSTART;TZID=Asia/Kolkata:20260621T090000
DTEND;TZID=Asia/Kolkata:20260705T170000
DTSTAMP:20260420T101801
CREATED:20260417T181056Z
LAST-MODIFIED:20260417T181056Z
UID:1325-1782032400-1783270800@www.kamaljyotividhyapeeth.com
SUMMARY:Summer Vacation
DESCRIPTION:
URL:https://www.kamaljyotividhyapeeth.com/calendar/summer-vacation/
LOCATION:KAMAL JYOTI VIDHYA PEETH\, KALIMPONG\, India
CATEGORIES:holidays
END:VEVENT
BEGIN:VEVENT
DTSTART;VALUE=DATE:20260705
DTEND;VALUE=DATE:20260706
DTSTAMP:20260420T101801
CREATED:20260417T181141Z
LAST-MODIFIED:20260417T181141Z
UID:1327-1783209600-1783295999@www.kamaljyotividhyapeeth.com
SUMMARY:Boarder Return
DESCRIPTION:
URL:https://www.kamaljyotividhyapeeth.com/calendar/boarder-return/
LOCATION:KAMAL JYOTI VIDHYA PEETH\, KALIMPONG\, India
CATEGORIES:BACK TO SCHOOL
END:VEVENT
BEGIN:VEVENT
DTSTART;VALUE=DATE:20260706
DTEND;VALUE=DATE:20260707
DTSTAMP:20260420T101801
CREATED:20260417T181233Z
LAST-MODIFIED:20260417T181233Z
UID:1329-1783296000-1783382399@www.kamaljyotividhyapeeth.com
SUMMARY:School Reopens
DESCRIPTION:
URL:https://www.kamaljyotividhyapeeth.com/calendar/school-reopens/
LOCATION:KAMAL JYOTI VIDHYA PEETH\, KALIMPONG\, India
CATEGORIES:Classes begins
END:VEVENT
BEGIN:VEVENT
DTSTART;VALUE=DATE:20260710
DTEND;VALUE=DATE:20260711
DTSTAMP:20260420T101801
CREATED:20260417T181439Z
LAST-MODIFIED:20260417T181439Z
UID:1331-1783641600-1783727999@www.kamaljyotividhyapeeth.com
SUMMARY:Afternoon Card Report Distribution and PTM
DESCRIPTION:
URL:https://www.kamaljyotividhyapeeth.com/calendar/afternoon-card-report-distribution-and-ptm/
LOCATION:KAMAL JYOTI VIDHYA PEETH\, KALIMPONG\, India
CATEGORIES:holidays
END:VEVENT
BEGIN:VEVENT
DTSTART;VALUE=DATE:20260711
DTEND;VALUE=DATE:20260712
DTSTAMP:20260420T101801
CREATED:20260417T181630Z
LAST-MODIFIED:20260417T181630Z
UID:1334-1783728000-1783814399@www.kamaljyotividhyapeeth.com
SUMMARY:Bhanu Jayanti Celebration
DESCRIPTION:
URL:https://www.kamaljyotividhyapeeth.com/calendar/bhanu-jayanti-celebration/
LOCATION:KAMAL JYOTI VIDHYA PEETH\, KALIMPONG\, India
CATEGORIES:School Programme
END:VEVENT
BEGIN:VEVENT
DTSTART;VALUE=DATE:20260713
DTEND;VALUE=DATE:20260714
DTSTAMP:20260420T101801
CREATED:20260417T181721Z
LAST-MODIFIED:20260417T181721Z
UID:1336-1783900800-1783987199@www.kamaljyotividhyapeeth.com
SUMMARY:Bhanu Jayanti Holiday
DESCRIPTION:
URL:https://www.kamaljyotividhyapeeth.com/calendar/bhanu-jayanti-holiday-2/
LOCATION:KAMAL JYOTI VIDHYA PEETH\, KALIMPONG\, India
CATEGORIES:holidays
END:VEVENT
BEGIN:VEVENT
DTSTART;VALUE=DATE:20260727
DTEND;VALUE=DATE:20260728
DTSTAMP:20260420T101801
CREATED:20260417T181901Z
LAST-MODIFIED:20260417T181901Z
UID:1338-1785110400-1785196799@www.kamaljyotividhyapeeth.com
SUMMARY:Sahid Diwas
DESCRIPTION:
URL:https://www.kamaljyotividhyapeeth.com/calendar/sahid-diwas/
LOCATION:KAMAL JYOTI VIDHYA PEETH\, KALIMPONG\, India
CATEGORIES:holidays
END:VEVENT
BEGIN:VEVENT
DTSTART;VALUE=DATE:20260727
DTEND;VALUE=DATE:20260728
DTSTAMP:20260420T101801
CREATED:20260417T181947Z
LAST-MODIFIED:20260417T181947Z
UID:1340-1785110400-1785196799@www.kamaljyotividhyapeeth.com
SUMMARY:Annual Function
DESCRIPTION:
URL:https://www.kamaljyotividhyapeeth.com/calendar/annual-function-2/
LOCATION:KAMAL JYOTI VIDHYA PEETH\, KALIMPONG\, India
CATEGORIES:School Programme
END:VEVENT
BEGIN:VEVENT
DTSTART;VALUE=DATE:20260807
DTEND;VALUE=DATE:20260808
DTSTAMP:20260420T101801
CREATED:20260417T182135Z
LAST-MODIFIED:20260417T182135Z
UID:1342-1786060800-1786147199@www.kamaljyotividhyapeeth.com
SUMMARY:Spell Bee ( I - VIII)  Essay (IX - XII)
DESCRIPTION:
URL:https://www.kamaljyotividhyapeeth.com/calendar/spell-bee-i-viii-essay-ix-xii/
LOCATION:KAMAL JYOTI VIDHYA PEETH\, KALIMPONG\, India
CATEGORIES:School Programme
END:VEVENT
BEGIN:VEVENT
DTSTART;VALUE=DATE:20260814
DTEND;VALUE=DATE:20260815
DTSTAMP:20260420T101801
CREATED:20260417T182210Z
LAST-MODIFIED:20260417T182210Z
UID:1344-1786665600-1786751999@www.kamaljyotividhyapeeth.com
SUMMARY:Independence Day Celebration
DESCRIPTION:
URL:https://www.kamaljyotividhyapeeth.com/calendar/independence-day-celebration/
LOCATION:KAMAL JYOTI VIDHYA PEETH\, KALIMPONG\, India
CATEGORIES:School Programme
END:VEVENT
BEGIN:VEVENT
DTSTART;VALUE=DATE:20260815
DTEND;VALUE=DATE:20260816
DTSTAMP:20260420T101801
CREATED:20260417T182233Z
LAST-MODIFIED:20260417T182233Z
UID:1346-1786752000-1786838399@www.kamaljyotividhyapeeth.com
SUMMARY:Independence Day (Holiday)
DESCRIPTION:
URL:https://www.kamaljyotividhyapeeth.com/calendar/independence-day-holiday/
LOCATION:KAMAL JYOTI VIDHYA PEETH\, KALIMPONG\, India
CATEGORIES:holidays
END:VEVENT
BEGIN:VEVENT
DTSTART;VALUE=DATE:20260820
DTEND;VALUE=DATE:20260821
DTSTAMP:20260420T101801
CREATED:20260417T182317Z
LAST-MODIFIED:20260417T182317Z
UID:1348-1787184000-1787270399@www.kamaljyotividhyapeeth.com
SUMMARY:Bhasa Diwas (holiday)
DESCRIPTION:
URL:https://www.kamaljyotividhyapeeth.com/calendar/bhasa-diwas-holiday/
LOCATION:KAMAL JYOTI VIDHYA PEETH\, KALIMPONG\, India
CATEGORIES:holidays
END:VEVENT
BEGIN:VEVENT
DTSTART;VALUE=DATE:20260821
DTEND;VALUE=DATE:20260822
DTSTAMP:20260420T101801
CREATED:20260417T182353Z
LAST-MODIFIED:20260417T182353Z
UID:1350-1787270400-1787356799@www.kamaljyotividhyapeeth.com
SUMMARY:Mid Term Examination Starts
DESCRIPTION:Mid Term Examination Starts
URL:https://www.kamaljyotividhyapeeth.com/calendar/mid-term-examination-starts/
LOCATION:KAMAL JYOTI VIDHYA PEETH\, KALIMPONG\, India
CATEGORIES:Exams
END:VEVENT
BEGIN:VEVENT
DTSTART;VALUE=DATE:20260904
DTEND;VALUE=DATE:20260905
DTSTAMP:20260420T101801
CREATED:20260417T182431Z
LAST-MODIFIED:20260417T182431Z
UID:1352-1788480000-1788566399@www.kamaljyotividhyapeeth.com
SUMMARY:Teacher's Day celebration
DESCRIPTION:Teacher’s Day celebration
URL:https://www.kamaljyotividhyapeeth.com/calendar/teachers-day-celebration/
LOCATION:KAMAL JYOTI VIDHYA PEETH\, KALIMPONG\, India
CATEGORIES:School Programme
END:VEVENT
BEGIN:VEVENT
DTSTART;VALUE=DATE:20260911
DTEND;VALUE=DATE:20260912
DTSTAMP:20260420T101801
CREATED:20260417T182539Z
LAST-MODIFIED:20260417T182539Z
UID:1354-1789084800-1789171199@www.kamaljyotividhyapeeth.com
SUMMARY:English Recitation (I-VIII)
DESCRIPTION:English Recitation (I-VIII)
URL:https://www.kamaljyotividhyapeeth.com/calendar/english-recitation-i-viii/
LOCATION:KAMAL JYOTI VIDHYA PEETH\, KALIMPONG\, India
CATEGORIES:School Programme
END:VEVENT
BEGIN:VEVENT
DTSTART;VALUE=DATE:20260914
DTEND;VALUE=DATE:20260915
DTSTAMP:20260420T101801
CREATED:20260417T182658Z
LAST-MODIFIED:20260417T182658Z
UID:1356-1789344000-1789430399@www.kamaljyotividhyapeeth.com
SUMMARY:Ganesh Chturthi
DESCRIPTION:
URL:https://www.kamaljyotividhyapeeth.com/calendar/ganesh-chturthi/
LOCATION:KAMAL JYOTI VIDHYA PEETH\, KALIMPONG\, India
CATEGORIES:School Programme
END:VEVENT
BEGIN:VEVENT
DTSTART;VALUE=DATE:20261002
DTEND;VALUE=DATE:20261003
DTSTAMP:20260420T101801
CREATED:20260417T182727Z
LAST-MODIFIED:20260417T182727Z
UID:1358-1790899200-1790985599@www.kamaljyotividhyapeeth.com
SUMMARY:Gandhi Jayanti (Holiday)
DESCRIPTION:Gandhi Jayanti (Holiday)
URL:https://www.kamaljyotividhyapeeth.com/calendar/gandhi-jayanti-holiday-2/
LOCATION:KAMAL JYOTI VIDHYA PEETH\, KALIMPONG\, India
CATEGORIES:holidays
END:VEVENT
BEGIN:VEVENT
DTSTART;VALUE=DATE:20261015
DTEND;VALUE=DATE:20261016
DTSTAMP:20260420T101801
CREATED:20260417T182811Z
LAST-MODIFIED:20260417T182811Z
UID:1360-1792022400-1792108799@www.kamaljyotividhyapeeth.com
SUMMARY:Dussehra Holiday
DESCRIPTION:Dussehra Holiday
URL:https://www.kamaljyotividhyapeeth.com/calendar/dussehra-holiday/
LOCATION:KAMAL JYOTI VIDHYA PEETH\, KALIMPONG\, India
CATEGORIES:holidays
END:VEVENT
BEGIN:VEVENT
DTSTART;VALUE=DATE:20261026
DTEND;VALUE=DATE:20261027
DTSTAMP:20260420T101801
CREATED:20260417T182918Z
LAST-MODIFIED:20260417T182918Z
UID:1362-1792972800-1793059199@www.kamaljyotividhyapeeth.com
SUMMARY:School Reopen
DESCRIPTION:School Reopen
URL:https://www.kamaljyotividhyapeeth.com/calendar/school-reopen-5/
LOCATION:KAMAL JYOTI VIDHYA PEETH\, KALIMPONG\, India
CATEGORIES:BACK TO SCHOOL
END:VEVENT
BEGIN:VEVENT
DTSTART;VALUE=DATE:20261107
DTEND;VALUE=DATE:20261108
DTSTAMP:20260420T101801
CREATED:20260417T183007Z
LAST-MODIFIED:20260417T183007Z
UID:1364-1794009600-1794095999@www.kamaljyotividhyapeeth.com
SUMMARY:Diwali Holiday
DESCRIPTION:Diwali Holiday
URL:https://www.kamaljyotividhyapeeth.com/calendar/diwali-holiday-2/
LOCATION:KAMAL JYOTI VIDHYA PEETH\, KALIMPONG\, India
CATEGORIES:Festivals,holidays
END:VEVENT
BEGIN:VEVENT
DTSTART;VALUE=DATE:20261113
DTEND;VALUE=DATE:20261114
DTSTAMP:20260420T101801
CREATED:20260417T183234Z
LAST-MODIFIED:20260417T183234Z
UID:1366-1794528000-1794614399@www.kamaljyotividhyapeeth.com
SUMMARY:School Reopen
DESCRIPTION:School Reopen
URL:https://www.kamaljyotividhyapeeth.com/calendar/school-reopen-6/
LOCATION:KAMAL JYOTI VIDHYA PEETH\, KALIMPONG\, India
CATEGORIES:BACK TO SCHOOL
END:VEVENT
BEGIN:VEVENT
DTSTART;VALUE=DATE:20261114
DTEND;VALUE=DATE:20261115
DTSTAMP:20260420T101801
CREATED:20260417T183406Z
LAST-MODIFIED:20260417T183406Z
UID:1368-1794614400-1794700799@www.kamaljyotividhyapeeth.com
SUMMARY:Children's Day and sports
DESCRIPTION:Children’s Day and sports
URL:https://www.kamaljyotividhyapeeth.com/calendar/childrens-day-and-sports-2/
LOCATION:KAMAL JYOTI VIDHYA PEETH\, KALIMPONG\, India
CATEGORIES:School Programme
END:VEVENT
BEGIN:VEVENT
DTSTART;VALUE=DATE:20261123
DTEND;VALUE=DATE:20261124
DTSTAMP:20260420T101801
CREATED:20260417T183617Z
LAST-MODIFIED:20260417T183617Z
UID:1370-1795392000-1795478399@www.kamaljyotividhyapeeth.com
SUMMARY:Baba`s Birthday Celebration
DESCRIPTION:Baba`s Birthday Celebration
URL:https://www.kamaljyotividhyapeeth.com/calendar/babas-birthday-celebration/
LOCATION:KAMAL JYOTI VIDHYA PEETH\, KALIMPONG\, India
CATEGORIES:School Programme
END:VEVENT
BEGIN:VEVENT
DTSTART;VALUE=DATE:20261124
DTEND;VALUE=DATE:20261125
DTSTAMP:20260420T101801
CREATED:20260417T183711Z
LAST-MODIFIED:20260417T183711Z
UID:1372-1795478400-1795564799@www.kamaljyotividhyapeeth.com
SUMMARY:Holiday
DESCRIPTION:Holiday
URL:https://www.kamaljyotividhyapeeth.com/calendar/holiday-4/
LOCATION:KAMAL JYOTI VIDHYA PEETH\, KALIMPONG\, India
CATEGORIES:holidays
END:VEVENT
BEGIN:VEVENT
DTSTART;VALUE=DATE:20261126
DTEND;VALUE=DATE:20261127
DTSTAMP:20260420T101801
CREATED:20260417T183822Z
LAST-MODIFIED:20260417T183822Z
UID:1374-1795651200-1795737599@www.kamaljyotividhyapeeth.com
SUMMARY:Junior Annual Exam
DESCRIPTION:Junior Annual Exam
URL:https://www.kamaljyotividhyapeeth.com/calendar/junior-annual-exam/
LOCATION:KAMAL JYOTI VIDHYA PEETH\, KALIMPONG\, India
CATEGORIES:Exams
END:VEVENT
BEGIN:VEVENT
DTSTART;VALUE=DATE:20261127
DTEND;VALUE=DATE:20261128
DTSTAMP:20260420T101801
CREATED:20260417T183909Z
LAST-MODIFIED:20260417T183909Z
UID:1376-1795737600-1795823999@www.kamaljyotividhyapeeth.com
SUMMARY:Farewell
DESCRIPTION:Farewell
URL:https://www.kamaljyotividhyapeeth.com/calendar/farewell/
LOCATION:KAMAL JYOTI VIDHYA PEETH\, KALIMPONG\, India
CATEGORIES:School Programme
END:VEVENT
BEGIN:VEVENT
DTSTART;VALUE=DATE:20261201
DTEND;VALUE=DATE:20261202
DTSTAMP:20260420T101801
CREATED:20260417T183945Z
LAST-MODIFIED:20260417T183945Z
UID:1378-1796083200-1796169599@www.kamaljyotividhyapeeth.com
SUMMARY:Senior Exam
DESCRIPTION:Senior Exam
URL:https://www.kamaljyotividhyapeeth.com/calendar/senior-exam/
LOCATION:KAMAL JYOTI VIDHYA PEETH\, KALIMPONG\, India
CATEGORIES:Exams
END:VEVENT
BEGIN:VEVENT
DTSTART;VALUE=DATE:20261210
DTEND;VALUE=DATE:20261211
DTSTAMP:20260420T101801
CREATED:20260417T184120Z
LAST-MODIFIED:20260417T184120Z
UID:1380-1796860800-1796947199@www.kamaljyotividhyapeeth.com
SUMMARY:Junior Result + Christmas
DESCRIPTION:
URL:https://www.kamaljyotividhyapeeth.com/calendar/junior-result-christmas/
LOCATION:KAMAL JYOTI VIDHYA PEETH\, KALIMPONG\, India
CATEGORIES:Results
END:VEVENT
BEGIN:VEVENT
DTSTART;VALUE=DATE:20261215
DTEND;VALUE=DATE:20261216
DTSTAMP:20260420T101801
CREATED:20260417T184203Z
LAST-MODIFIED:20260417T184203Z
UID:1382-1797292800-1797379199@www.kamaljyotividhyapeeth.com
SUMMARY:Senior Result
DESCRIPTION:Senior Result
URL:https://www.kamaljyotividhyapeeth.com/calendar/senior-result/
LOCATION:KAMAL JYOTI VIDHYA PEETH\, KALIMPONG\, India
CATEGORIES:Results
END:VEVENT
END:VCALENDAR