BEGIN:VCALENDAR
VERSION:2.0
PRODID:-//Kamal Jyoti Vidhya Peeth - ECPv5.14.1//NONSGML v1.0//EN
CALSCALE:GREGORIAN
METHOD:PUBLISH
X-WR-CALNAME:Kamal Jyoti Vidhya Peeth
X-ORIGINAL-URL:https://www.kamaljyotividhyapeeth.com
X-WR-CALDESC:Events for Kamal Jyoti Vidhya Peeth
REFRESH-INTERVAL;VALUE=DURATION:PT1H
X-Robots-Tag:noindex
X-PUBLISHED-TTL:PT1H
BEGIN:VTIMEZONE
TZID:Asia/Kolkata
BEGIN:STANDARD
TZOFFSETFROM:+0530
TZOFFSETTO:+0530
TZNAME:IST
DTSTART:20240101T000000
END:STANDARD
END:VTIMEZONE
BEGIN:VEVENT
DTSTART;VALUE=DATE:20240308
DTEND;VALUE=DATE:20240309
DTSTAMP:20260420T093024
CREATED:20240221T135319Z
LAST-MODIFIED:20240221T135319Z
UID:1035-1709856000-1709942399@www.kamaljyotividhyapeeth.com
SUMMARY:Shivratri - (Programme)
DESCRIPTION:Shivratri (Programme)
URL:https://www.kamaljyotividhyapeeth.com/calendar/shivratri-programme/
LOCATION:KAMAL JYOTI VIDHYA PEETH\, KALIMPONG\, India
CATEGORIES:School Programme
END:VEVENT
BEGIN:VEVENT
DTSTART;VALUE=DATE:20240301
DTEND;VALUE=DATE:20240302
DTSTAMP:20260420T093024
CREATED:20240221T154327Z
LAST-MODIFIED:20240221T154327Z
UID:1044-1709251200-1709337599@www.kamaljyotividhyapeeth.com
SUMMARY:Boarders Returns
DESCRIPTION:Boaders Returns
URL:https://www.kamaljyotividhyapeeth.com/calendar/boarders-returns/
LOCATION:KAMAL JYOTI VIDHYA PEETH\, KALIMPONG\, India
CATEGORIES:BACK TO SCHOOL
END:VEVENT
BEGIN:VEVENT
DTSTART;TZID=Asia/Kolkata:20240221T080000
DTEND;TZID=Asia/Kolkata:20240221T170000
DTSTAMP:20260420T093024
CREATED:20240221T161304Z
LAST-MODIFIED:20240221T161304Z
UID:1079-1708502400-1708534800@www.kamaljyotividhyapeeth.com
SUMMARY:Sahid Diwas (Holiday)
DESCRIPTION:Sahid Diwas (Holiday)
URL:https://www.kamaljyotividhyapeeth.com/calendar/sahid-diwas-holiday/
END:VEVENT
END:VCALENDAR