BEGIN:VCALENDAR
VERSION:2.0
PRODID:-//Kamal Jyoti Vidhya Peeth - ECPv5.14.1//NONSGML v1.0//EN
CALSCALE:GREGORIAN
METHOD:PUBLISH
X-WR-CALNAME:Kamal Jyoti Vidhya Peeth
X-ORIGINAL-URL:https://www.kamaljyotividhyapeeth.com
X-WR-CALDESC:Events for Kamal Jyoti Vidhya Peeth
REFRESH-INTERVAL;VALUE=DURATION:PT1H
X-Robots-Tag:noindex
X-PUBLISHED-TTL:PT1H
BEGIN:VTIMEZONE
TZID:Asia/Kolkata
BEGIN:STANDARD
TZOFFSETFROM:+0530
TZOFFSETTO:+0530
TZNAME:IST
DTSTART:20260101T000000
END:STANDARD
END:VTIMEZONE
BEGIN:VEVENT
DTSTART;VALUE=DATE:20260807
DTEND;VALUE=DATE:20260808
DTSTAMP:20260421T021728
CREATED:20260417T182135Z
LAST-MODIFIED:20260417T182135Z
UID:1342-1786060800-1786147199@www.kamaljyotividhyapeeth.com
SUMMARY:Spell Bee ( I - VIII)  Essay (IX - XII)
DESCRIPTION:
URL:https://www.kamaljyotividhyapeeth.com/calendar/spell-bee-i-viii-essay-ix-xii/
LOCATION:KAMAL JYOTI VIDHYA PEETH\, KALIMPONG\, India
CATEGORIES:School Programme
END:VEVENT
BEGIN:VEVENT
DTSTART;VALUE=DATE:20260814
DTEND;VALUE=DATE:20260815
DTSTAMP:20260421T021728
CREATED:20260417T182210Z
LAST-MODIFIED:20260417T182210Z
UID:1344-1786665600-1786751999@www.kamaljyotividhyapeeth.com
SUMMARY:Independence Day Celebration
DESCRIPTION:
URL:https://www.kamaljyotividhyapeeth.com/calendar/independence-day-celebration/
LOCATION:KAMAL JYOTI VIDHYA PEETH\, KALIMPONG\, India
CATEGORIES:School Programme
END:VEVENT
BEGIN:VEVENT
DTSTART;VALUE=DATE:20260815
DTEND;VALUE=DATE:20260816
DTSTAMP:20260421T021728
CREATED:20260417T182233Z
LAST-MODIFIED:20260417T182233Z
UID:1346-1786752000-1786838399@www.kamaljyotividhyapeeth.com
SUMMARY:Independence Day (Holiday)
DESCRIPTION:
URL:https://www.kamaljyotividhyapeeth.com/calendar/independence-day-holiday/
LOCATION:KAMAL JYOTI VIDHYA PEETH\, KALIMPONG\, India
CATEGORIES:holidays
END:VEVENT
BEGIN:VEVENT
DTSTART;VALUE=DATE:20260820
DTEND;VALUE=DATE:20260821
DTSTAMP:20260421T021728
CREATED:20260417T182317Z
LAST-MODIFIED:20260417T182317Z
UID:1348-1787184000-1787270399@www.kamaljyotividhyapeeth.com
SUMMARY:Bhasa Diwas (holiday)
DESCRIPTION:
URL:https://www.kamaljyotividhyapeeth.com/calendar/bhasa-diwas-holiday/
LOCATION:KAMAL JYOTI VIDHYA PEETH\, KALIMPONG\, India
CATEGORIES:holidays
END:VEVENT
BEGIN:VEVENT
DTSTART;VALUE=DATE:20260821
DTEND;VALUE=DATE:20260822
DTSTAMP:20260421T021728
CREATED:20260417T182353Z
LAST-MODIFIED:20260417T182353Z
UID:1350-1787270400-1787356799@www.kamaljyotividhyapeeth.com
SUMMARY:Mid Term Examination Starts
DESCRIPTION:Mid Term Examination Starts
URL:https://www.kamaljyotividhyapeeth.com/calendar/mid-term-examination-starts/
LOCATION:KAMAL JYOTI VIDHYA PEETH\, KALIMPONG\, India
CATEGORIES:Exams
END:VEVENT
END:VCALENDAR